BEGIN:VCALENDAR
VERSION:2.0
PRODID:-//DamClubHarderwijk - ECPv6.15.20//NONSGML v1.0//EN
CALSCALE:GREGORIAN
METHOD:PUBLISH
X-ORIGINAL-URL:https://damclubharderwijk.nl
X-WR-CALDESC:Evenementen voor DamClubHarderwijk
REFRESH-INTERVAL;VALUE=DURATION:PT1H
X-Robots-Tag:noindex
X-PUBLISHED-TTL:PT1H
BEGIN:VTIMEZONE
TZID:Europe/Amsterdam
BEGIN:DAYLIGHT
TZOFFSETFROM:+0100
TZOFFSETTO:+0200
TZNAME:CEST
DTSTART:20170326T010000
END:DAYLIGHT
BEGIN:STANDARD
TZOFFSETFROM:+0200
TZOFFSETTO:+0100
TZNAME:CET
DTSTART:20171029T010000
END:STANDARD
BEGIN:DAYLIGHT
TZOFFSETFROM:+0100
TZOFFSETTO:+0200
TZNAME:CEST
DTSTART:20180325T010000
END:DAYLIGHT
BEGIN:STANDARD
TZOFFSETFROM:+0200
TZOFFSETTO:+0100
TZNAME:CET
DTSTART:20181028T010000
END:STANDARD
BEGIN:DAYLIGHT
TZOFFSETFROM:+0100
TZOFFSETTO:+0200
TZNAME:CEST
DTSTART:20190331T010000
END:DAYLIGHT
BEGIN:STANDARD
TZOFFSETFROM:+0200
TZOFFSETTO:+0100
TZNAME:CET
DTSTART:20191027T010000
END:STANDARD
END:VTIMEZONE
BEGIN:VEVENT
DTSTART;TZID=Europe/Amsterdam:20181002T193000
DTEND;TZID=Europe/Amsterdam:20181002T230000
DTSTAMP:20260423T123728
CREATED:20180917T195901Z
LAST-MODIFIED:20180917T195901Z
UID:136-1538508600-1538521200@damclubharderwijk.nl
SUMMARY:DES Lunteren 1  - DCH 2
DESCRIPTION:
URL:https://damclubharderwijk.nl/event/des-lunteren-1-dch-2/
CATEGORIES:Provinciale competitie
END:VEVENT
BEGIN:VEVENT
DTSTART;TZID=Europe/Amsterdam:20181005T193000
DTEND;TZID=Europe/Amsterdam:20181005T230000
DTSTAMP:20260423T123728
CREATED:20180917T195448Z
LAST-MODIFIED:20180917T195646Z
UID:132-1538767800-1538780400@damclubharderwijk.nl
SUMMARY:DUO Doetinchem 1  - DCH 1
DESCRIPTION:
URL:https://damclubharderwijk.nl/event/duo-doetinchem-1-dch-1/
CATEGORIES:Provinciale competitie
END:VEVENT
BEGIN:VEVENT
DTSTART;TZID=Europe/Amsterdam:20181016T193000
DTEND;TZID=Europe/Amsterdam:20181016T230000
DTSTAMP:20260423T123728
CREATED:20180917T195947Z
LAST-MODIFIED:20180917T195947Z
UID:138-1539718200-1539730800@damclubharderwijk.nl
SUMMARY:VRD Renkum 1  - DCH 2
DESCRIPTION:
URL:https://damclubharderwijk.nl/event/vrd-renkum-1-dch-2/
CATEGORIES:Provinciale competitie
END:VEVENT
BEGIN:VEVENT
DTSTART;TZID=Europe/Amsterdam:20181018T193000
DTEND;TZID=Europe/Amsterdam:20181018T230000
DTSTAMP:20260423T123728
CREATED:20180917T195628Z
LAST-MODIFIED:20180917T195628Z
UID:134-1539891000-1539903600@damclubharderwijk.nl
SUMMARY:DCH 1 - WSDV Wageningen 2
DESCRIPTION:
URL:https://damclubharderwijk.nl/event/dch-1-wsdv-wageningen-2/
LOCATION:PV De Toekomst\, Marie Curiestraat 4\, Harderwijk
CATEGORIES:Provinciale competitie
END:VEVENT
BEGIN:VEVENT
DTSTART;TZID=Europe/Amsterdam:20181018T193000
DTEND;TZID=Europe/Amsterdam:20181018T230000
DTSTAMP:20260423T123728
CREATED:20180917T201252Z
LAST-MODIFIED:20180917T201252Z
UID:152-1539891000-1539903600@damclubharderwijk.nl
SUMMARY:DCH 1 - WSDV Wageningen 2
DESCRIPTION:
URL:https://damclubharderwijk.nl/event/dch-1-wsdv-wageningen-2-2/
CATEGORIES:Provinciale competitie
END:VEVENT
BEGIN:VEVENT
DTSTART;TZID=Europe/Amsterdam:20181030T193000
DTEND;TZID=Europe/Amsterdam:20181030T230000
DTSTAMP:20260423T123728
CREATED:20180917T200045Z
LAST-MODIFIED:20180917T200130Z
UID:140-1540927800-1540940400@damclubharderwijk.nl
SUMMARY:DCE Ederveen 1  - DCH 2
DESCRIPTION:
URL:https://damclubharderwijk.nl/event/dce-ederveen-1-dch-2/
CATEGORIES:Provinciale competitie
END:VEVENT
END:VCALENDAR